BEGIN:VCALENDAR
VERSION:2.0
PRODID:-//The Sauce - ECPv6.15.18//NONSGML v1.0//EN
CALSCALE:GREGORIAN
METHOD:PUBLISH
X-WR-CALNAME:The Sauce
X-ORIGINAL-URL:https://allaboutthesauce.nl
X-WR-CALDESC:Events for The Sauce
REFRESH-INTERVAL;VALUE=DURATION:PT1H
X-Robots-Tag:noindex
X-PUBLISHED-TTL:PT1H
BEGIN:VTIMEZONE
TZID:Europe/Amsterdam
BEGIN:DAYLIGHT
TZOFFSETFROM:+0100
TZOFFSETTO:+0200
TZNAME:CEST
DTSTART:20250330T010000
END:DAYLIGHT
BEGIN:STANDARD
TZOFFSETFROM:+0200
TZOFFSETTO:+0100
TZNAME:CET
DTSTART:20251026T010000
END:STANDARD
BEGIN:DAYLIGHT
TZOFFSETFROM:+0100
TZOFFSETTO:+0200
TZNAME:CEST
DTSTART:20260329T010000
END:DAYLIGHT
BEGIN:STANDARD
TZOFFSETFROM:+0200
TZOFFSETTO:+0100
TZNAME:CET
DTSTART:20261025T010000
END:STANDARD
BEGIN:DAYLIGHT
TZOFFSETFROM:+0100
TZOFFSETTO:+0200
TZNAME:CEST
DTSTART:20270328T010000
END:DAYLIGHT
BEGIN:STANDARD
TZOFFSETFROM:+0200
TZOFFSETTO:+0100
TZNAME:CET
DTSTART:20271031T010000
END:STANDARD
END:VTIMEZONE
BEGIN:VEVENT
DTSTART;TZID=Europe/Amsterdam:20260425T120000
DTEND;TZID=Europe/Amsterdam:20260425T160000
DTSTAMP:20260421T095837
CREATED:20260410T060602Z
LAST-MODIFIED:20260410T060602Z
UID:2018-1777118400-1777132800@allaboutthesauce.nl
SUMMARY:Streetfood Workshop 2.0 met Jerremy
DESCRIPTION:Streetfood Workshop 2.0 met Jerremy Jerremy is terug bij BBQ Outside voor een kersverse streetfood Workshop!In onze Streetfood Experience Workshop op zaterdag 25 april 2026 leer je hoe je heerlijke streetfoodgerechten met een unieke BBQ-twist bereidt. Deze workshop biedt een uitstekende kans voor culinaire ontwikkeling. Onder leiding van pitmaster Jerremy Bulo ontdek je nieuwe smaken en technieken. Jerremy heeft een sterke achtergrond in de keuken en een passie voor BBQ.Met zijn brede ervaring als ondernemer en pitmaster is deze workshop uniek. Of je nu een fervent streetfood-liefhebber bent of je BBQ-vaardigheden wilt verbeteren\, dit is jouw kans. Experimenteer met spannende gerechten en verrassende smaken. Je leert alles wat je nodig hebt om indruk te maken op vrienden en familie.Wat kun je verwachten? \n\nPraktische tips en technieken: Tijdens de workshop ontvang je praktische tips voor het bereiden van authentiek streetfood op de BBQ. Jerremy deelt zijn geheimen over de juiste marinades en kruiden. Ook leert hij je de beste kookmethodes om de perfecte smaken te bereiken.\nIconische gerechten: Maak kennis met iconische streetfoodgerechten van over de hele wereld. Denk aan sappige kebabs\, knapperige tacos en smaakvolle saté. Elk gerecht wordt vertaald naar een BBQ-variant. Dit zorgt voor een unieke en heerlijke eetervaring.\nGeuren en smaken: Bereid je voor op een zintuiglijke ervaring vol geuren en smaken. De combinatie van rijke smaken van straatvoedsel met de rokerige aroma’s van de BBQ is onweerstaanbaar.\nBegeleiding van een expert: Gedurende de workshop ben je in goede handen bij Jerremy. Hij heeft jarenlange ervaring en culinaire expertise. Hij geeft niet alleen tips\, maar ook persoonlijke aandacht om je te helpen slagen.\n\nDoe mee en leer hoe je streetfoodgerechten kunt bereiden die perfect zijn voor elke gelegenheid. Van informele feestjes tot relaxte avonden met vrienden\, deze workshop biedt alles wat je nodig hebt.Schrijf je nu in voor de Streetfood BBQ Experience. Breng de magie van streetfood naar jouw BBQ! Laat je inspireren en ontdek de eindeloze mogelijkheden die deze workshop biedt!Heb je allergieën of dieetwensen? Laat het ons vooraf weten! Stuur een e-mail naar info@bbqoutside.nl\, zodat we hier rekening mee kunnen houden tijdens de workshop.
URL:https://allaboutthesauce.nl/event/streetfood-workshop-2-0-met-jerremy/
LOCATION:Bbq Outside\, Edisonweg 17\, Purmerend\, 1446TM\, Netherlands
ATTACH;FMTTYPE=image/webp:https://allaboutthesauce.nl/wp-content/uploads/2026/04/streetfood-workshop-jerremy-4.jpg.webp
END:VEVENT
BEGIN:VEVENT
DTSTART;TZID=Europe/Amsterdam:20260502T120000
DTEND;TZID=Europe/Amsterdam:20260502T160000
DTSTAMP:20260421T095837
CREATED:20260410T130403Z
LAST-MODIFIED:20260410T130403Z
UID:2022-1777723200-1777737600@allaboutthesauce.nl
SUMMARY:BBQ Workshop met Smoke Architect
DESCRIPTION:Ben jij een beginnende BBQ’er of wil je je oude passie weer laten opvlammen? Onze 4 uur durende basis workshop is perfect om de kunst van het barbecueën met een kamado onder de knie te krijgen. Leer alles van de basis tot de geheimen van deze unieke BBQ-techniek!Wat kun je verwachten? \n\nBasisprincipes zoals het aansteken en temperatuurbeheersing\nVerschillende kooktechnieken: direct & indirect grillen\, roken en slow cooking\nIngrediënten kiezen\, marinades en rubs maken\, en gerechten perfect serveren\n\nOnze basis workshop is ideaal voor iedereen die de magie van kamado koken wil ontdekken. Heb je nog geen kamado\, maar overweeg je er een aan te schaffen? Dit is de perfecte kans om alle mogelijkheden te leren kennen en meteen zelf aan de slag te gaan!Zelf aan de slag!Tijdens deze workshop duik je zelf achter de BBQ en experimenteer je met verschillende gerechten onder begeleiding van onze ervaren pitmaster. Je werkt in groepjes van 2\, waarbij elk duo aan één kamado aan de slag gaat. Of je nu een fan bent van sappige steaks\, gerookte vis of knapperige groenten – je zult versteld staan van wat je samen op een kamado kunt bereiken.Geniet van je eigen BBQ-feestNa al je harde werk geniet je samen met de andere deelnemers van een heerlijk BBQ-feest met je eigen creaties. Dit is de perfecte gelegenheid om ervaringen te delen\, vragen te stellen\, en met een schat aan nieuwe kennis en inspiratie naar huis te gaan.Mis deze kans niet! Schrijf je vandaag nog in voor onze basis workshop en ontdek de eindeloze mogelijkheden van kamado koken. Wie weet ben jij straks de BBQ-meester in je eigen achtertuin!
URL:https://allaboutthesauce.nl/event/bbq-workshop-met-smoke-architect/
LOCATION:Bbq Outside\, Edisonweg 17\, Purmerend\, 1446TM\, Netherlands
ATTACH;FMTTYPE=image/webp:https://allaboutthesauce.nl/wp-content/uploads/2026/04/41CAE1AF-B997-495F-AD74-C00791BA6806-scaled-1.webp
END:VEVENT
BEGIN:VEVENT
DTSTART;TZID=Europe/Amsterdam:20260612T080000
DTEND;TZID=Europe/Amsterdam:20260612T170000
DTSTAMP:20260421T095837
CREATED:20260410T131027Z
LAST-MODIFIED:20260410T131027Z
UID:2025-1781251200-1781283600@allaboutthesauce.nl
SUMMARY:The Sauce - StreetVibes Workshop
DESCRIPTION:Vanaf het begin was The sauce voorbestemd voor iets groots. Dat wisten we toen nog niet\, maar nu wel! \nWat ga je doen?\nPer team van twee gaan jullie in de overdekte workshop veranda aan de slag met een kamado en uiteraard worden de bereide producten ook met elkaar geproefd\, buiten of binnen in de sfeervolle workshop ruimte. \nJe gaat gerechtjes bereiden waarin de producten van ‘The Sauce’ een rol spelen.\nDenk hierbij aan: \nSnacks: \n\nCrostini Ribeye met gerookte Chimichurri\nCrostini warm gerookte zalm\n\nTussen:\n\n\nStromboli varkensgehakt\nMini varkensrollade\n\n\nHoofdgerecht:\n\nZacht gegaard buikspek\, Hasselback Potatoes\, gerilde Shanghai Paksoi\n\nDessert:\n\n\nChocolate Chip Skillet met roomijs\n\n\n\nDe Pitmaster:  Jerremy Bulo – Maker of the Sauce\nOorspronkelijk werd de saus zo’n 20 jaar geleden door Jerremy bedacht. Gedreven door de wens om eten “beter” te maken\, creëerde Jerremy een saus die geschikt was voor elk gerecht. Vooral voor hamburgers\, want zeg nou zelf\, wie houdt er niet van een goede hamburger? In de loop der jaren werd het recept steeds beter en steeds meer mensen wilden het proberen.\nInmiddels is ‘The Sauce’ ook uitgebreid met diverse rubs \nOnze workshop ruimte:\nIn onze veranda vind je de kamado’s waar jullie mee gaan werken. Dit zijn Big Green Egg’s. \nDe veranda is voorzien van glazen schuifwanden zodat er nooit meer slecht BBQ-weer is. Naast de veranda is de sfeervolle ruimte met bar waar de gerechten gegeten kunnen worden. Uiteraard kan dat bij mooi weer ook buiten. Verder is de ruimte voorzien van een professionele horeca keuken en spoelkeuken.\n\nKan ik ook alleen inschrijven of alleen per twee?\nJazeker kan je solo inschrijven\, je zal dan samen met een andere solo-inschrijving een team vormen. Al is het natuurlijk nog leuker om je passie te delen met je partner of goede vrienden. Ook handig als je daarna samen aan de slag gaat met jullie eigen kamado.\nVaak zien we dat bij koppels vrouwen en mannen totaal verschillende vragen stellen en daar leert iedereen weer van.\n\n\nPraktische zaken:\nDe genoemde prijs is per persoon. Bij een workshop zijn voor elke deelnemer\, koffie\, thee\, frisdrank en 4 alcoholische consumpties inbegrepen. Een workshop kan doorgaan vanaf 12 aanmeldingen. Nadat je je hebt ingeschreven zullen wij zo snel mogelijk laten weten of dit aantal is bereikt. \n\nDe recepten van de gerechten die tijdens de workshop gemaakt zijn\, ontvang je achteraf via de mail. \n\nBen je geïnteresseerd in de workshop\, maar heb je nog vragen? Neem dan contact met ons op 0182-759111 of workshop@beefexclusief.nl
URL:https://allaboutthesauce.nl/event/the-sauce-streetvibes-workshop/
LOCATION:Beef Exclusief\, Bredeweg 126\, Zevenhuizen\, 2761KB\, Netherlands
ATTACH;FMTTYPE=image/webp:https://allaboutthesauce.nl/wp-content/uploads/2026/04/beef-exclusief-bv-the-sauce-streetvibes-workshop-55257692537161.webp
END:VEVENT
BEGIN:VEVENT
DTSTART;TZID=Europe/Amsterdam:20260627T170000
DTEND;TZID=Europe/Amsterdam:20260627T220000
DTSTAMP:20260421T095837
CREATED:20260412T080239Z
LAST-MODIFIED:20260412T080239Z
UID:2030-1782579600-1782597600@allaboutthesauce.nl
SUMMARY:The Sauce X All Smoke BBQ
DESCRIPTION:Nieuw Gast optreden van de maker van The Sauce! Jerremy Bulo van The Sauce komt 20 juni langs voor een gast optreden in onze BBQ pit. \nZijn workshop is verrassend en energiek\, deze stuiterbal uit Lelystad zet de ruimte samen met de cursisten op de kop. Uiteraard staan zijn kruiden rubs en sauzen aan de grondslag van het menu maar je wordt zeker niet gespammed met zijn creaties dat alles hierom heen draait. \nJerremy neemt je mee op tour over de wereld met streetfood waarbij er verschillende continenten aan bod komen. \nHet menu van de avond is als volgt: \nSnacks:\nCrostini Ribeye met gerookte Chimichurri\nCrostini warm gerookte zalm met Roomkaas/The Sauce en micro greens \nTussen:\nStromboli varkensgehakt\, paprika\, ui\, knoflook\nMini varken Rollade met zelfgemaakte pesto \nHoofdgerecht:\nHasselback Potatoes\, Zacht gegaard buikspek met 5-spice\, gegrild Shanghai paksoi met Crispy Chilli Oil \nDessert:\nChocolate Chip Skillet met Bolletje roomijs
URL:https://allaboutthesauce.nl/event/the-sauce-x-all-smoke-bbq/
LOCATION:All Smoke\, Zwettestraat 13\, Leeuwarden\, 8912 AH\, Netherlands
ATTACH;FMTTYPE=image/jpeg:https://allaboutthesauce.nl/wp-content/uploads/2026/04/15261.jpeg
END:VEVENT
BEGIN:VEVENT
DTSTART;TZID=Europe/Amsterdam:20260711T140000
DTEND;TZID=Europe/Amsterdam:20260711T190000
DTSTAMP:20260421T095838
CREATED:20260412T080928Z
LAST-MODIFIED:20260412T080928Z
UID:2034-1783778400-1783796400@allaboutthesauce.nl
SUMMARY:The Sauce x BBQShop Harmelen
DESCRIPTION:Onder leiding van pitmaster Jerremy Bulo ontdek je nieuwe smaken en technieken. Jerremy heeft een sterke achtergrond in de keuken en een passie voor BBQ.Met zijn brede ervaring als ondernemer en pitmaster is deze workshop uniek. Of je nu een fervent streetfood-liefhebber bent of je BBQ-vaardigheden wilt verbeteren\, dit is jouw kans. Experimenteer met spannende gerechten en verrassende smaken. Je leert alles wat je nodig hebt om indruk te maken op vrienden en familie.Wat kun je verwachten? \n\nPraktische tips en technieken: Tijdens de workshop ontvang je praktische tips voor het bereiden van authentiek streetfood op de BBQ. Jerremy deelt zijn geheimen over de juiste marinades en kruiden. Ook leert hij je de beste kookmethodes om de perfecte smaken te bereiken.\nIconische gerechten: Maak kennis met iconische streetfoodgerechten van over de hele wereld. Denk aan sappige kebabs\, knapperige tacos en smaakvolle saté. Elk gerecht wordt vertaald naar een BBQ-variant. Dit zorgt voor een unieke en heerlijke eetervaring.\nGeuren en smaken: Bereid je voor op een zintuiglijke ervaring vol geuren en smaken. De combinatie van rijke smaken van straatvoedsel met de rokerige aroma’s van de BBQ is onweerstaanbaar.\nBegeleiding van een expert: Gedurende de workshop ben je in goede handen bij Jerremy. Hij heeft jarenlange ervaring en culinaire expertise. Hij geeft niet alleen tips\, maar ook persoonlijke aandacht om je te helpen slagen.
URL:https://allaboutthesauce.nl/event/the-sauce-x-bbqshop-harmelen/
LOCATION:Bbqshop Harmelen\, Nijverheidsweg 11\, Harmelen\, Netherlands
ATTACH;FMTTYPE=image/webp:https://allaboutthesauce.nl/wp-content/uploads/2026/04/streetfood-workshop-jerremy-4.jpg.webp
END:VEVENT
BEGIN:VEVENT
DTSTART;TZID=Europe/Amsterdam:20261114T150000
DTEND;TZID=Europe/Amsterdam:20261114T190000
DTSTAMP:20260421T095838
CREATED:20260412T081440Z
LAST-MODIFIED:20260412T081440Z
UID:2037-1794668400-1794682800@allaboutthesauce.nl
SUMMARY:Streetfood With The Sauce
DESCRIPTION:Ontdek de kunst van streetfood op de BBQ met Jerremy Bulo van The Sauce! Altijd al willen leren hoe je streetfoodgerechten met een BBQ-twist bereidt? Schrijf je dan nu in voor onze Streetfood Experience Workshop op zaterdag 14 november! Onder leiding van Jerremy Bulo\, bekend van The Sauce en The Rub All About the Sauce BV\, leer je de fijne kneepjes van het BBQ-vak.
URL:https://allaboutthesauce.nl/event/streetfood-with-the-sauce/
LOCATION:Meat me\, Banninklaan 6a\, Zierikzee\, 4301 NN\, Netherlands
ATTACH;FMTTYPE=image/jpeg:https://allaboutthesauce.nl/wp-content/uploads/2026/04/15261.jpeg
END:VEVENT
END:VCALENDAR